BEGIN:VCALENDAR
PRODID:-//eluceo/ical//2.0/EN
VERSION:2.0
CALSCALE:GREGORIAN
BEGIN:VEVENT
UID:d5c36885bf943c8b0f8847879519cfde
DTSTAMP:20260422T210355Z
SUMMARY:7:30 pm - Hadassah Book Club
DESCRIPTION:The Knoxville Jewish Alliance\nThe Knoxville Jewish Alliance Ca
 lendar\nhttps://jewishknoxville.org/calendar/730-pm-hadassah-book-club-aug
 ust\n\n7:30 pm - Hadassah Book Club
DTSTART;TZID=America/New_York:20220816T193000
DTEND;TZID=America/New_York:20220816T203000
END:VEVENT
END:VCALENDAR
