BEGIN:VCALENDAR
PRODID:-//eluceo/ical//2.0/EN
VERSION:2.0
CALSCALE:GREGORIAN
BEGIN:VEVENT
UID:b19a91bef86dacb86f66674bc1befdcc
DTSTAMP:20260426T010024Z
SUMMARY:7:30p Hadassah at Temple
DESCRIPTION:The Knoxville Jewish Alliance\nThe Knoxville Jewish Alliance Ca
 lendar\nhttps://jewishknoxville.org/calendar/730p-hadassah\n\nHadassah at 
 Temple Friday March 18
DTSTART;TZID=America/New_York:20160318T193000
DTEND;TZID=America/New_York:20160318T203000
END:VEVENT
END:VCALENDAR
