BEGIN:VCALENDAR
PRODID:-//eluceo/ical//2.0/EN
VERSION:2.0
CALSCALE:GREGORIAN
BEGIN:VEVENT
UID:dd2af99d080a0b6563d31e7803fc7670
DTSTAMP:20260421T111331Z
SUMMARY:7:30p Hadassah Book Club-Barnes & Noble April 2017
DESCRIPTION:The Knoxville Jewish Alliance\nThe Knoxville Jewish Alliance Ca
 lendar\nhttps://jewishknoxville.org/calendar/730p-hadassah-book-club-barne
 s-noble-april-2017\n\nThis month's selection is Valley of Amazement by Amy
  Tan.\nWe are an informal group.  Contactl Peggy Littmann 776-1013\, plitt
 mann@comcast.net for more information.
DTSTART;TZID=America/New_York:20170418T193000
DTEND;TZID=America/New_York:20170418T210000
END:VEVENT
END:VCALENDAR
