BEGIN:VCALENDAR
PRODID:-//eluceo/ical//2.0/EN
VERSION:2.0
CALSCALE:GREGORIAN
BEGIN:VEVENT
UID:cd4b0450e79ab11707c75c438cfb0f49
DTSTAMP:20260420T082850Z
SUMMARY:7:30p Hadassah Book Club-Barnes & Noble May 2017
DESCRIPTION:The Knoxville Jewish Alliance\nThe Knoxville Jewish Alliance Ca
 lendar\nhttps://jewishknoxville.org/calendar/730p-hadassah-book-club-barne
 s-noble-may-2017\n\nThis month's selection is The Underground Railroad by 
 Colson Whitehead.\nWe are an informal group.  Contactl Peggy Littmann 776-
 1013\, plittmann@comcast.net for more information.
DTSTART;TZID=America/New_York:20170516T193000
DTEND;TZID=America/New_York:20170516T210000
END:VEVENT
END:VCALENDAR
