BEGIN:VCALENDAR
PRODID:-//eluceo/ical//2.0/EN
VERSION:2.0
CALSCALE:GREGORIAN
BEGIN:VEVENT
UID:dd0a4b64699c69a980ca8ef1c780855b
DTSTAMP:20260422T183134Z
SUMMARY:7:30p Israel Book Club-HA
DESCRIPTION:The Knoxville Jewish Alliance\nThe Knoxville Jewish Alliance Ca
 lendar\nhttps://jewishknoxville.org/calendar/730p-israel-book-club-haj19\n
 \nIsrael Book Club session led by Rabbi Ferency. To get the book selection
 \, call 522-0701.
DTSTART;TZID=America/New_York:20160619T193000
DTEND;TZID=America/New_York:20160619T203000
END:VEVENT
END:VCALENDAR
