BEGIN:VCALENDAR
PRODID:-//eluceo/ical//2.0/EN
VERSION:2.0
CALSCALE:GREGORIAN
BEGIN:VEVENT
UID:8fa744a464eb932fd3e57e832cedafad
DTSTAMP:20260424T093433Z
SUMMARY:7:30p Judaism 301 Class-HA
DESCRIPTION:The Knoxville Jewish Alliance\nThe Knoxville Jewish Alliance Ca
 lendar\nhttps://jewishknoxville.org/calendar/730p-judaism-301-class-ha12\n
 \nJudaism 301 - Other Pirke Avot\, Mishnah\, and Tosefta.  Please call 8
 65-522-0701 for more information.
DTSTART;TZID=America/New_York:20181111T193000
DTEND;TZID=America/New_York:20181111T203000
END:VEVENT
END:VCALENDAR
