BEGIN:VCALENDAR
PRODID:-//eluceo/ical//2.0/EN
VERSION:2.0
CALSCALE:GREGORIAN
BEGIN:VEVENT
UID:2af0ddd76821e64d9590faa04907353e
DTSTAMP:20260422T115547Z
SUMMARY:7:30pm HADASSAH BOOK CLUB April
DESCRIPTION:The Knoxville Jewish Alliance\nThe Knoxville Jewish Alliance Ca
 lendar\nhttps://jewishknoxville.org/calendar/730pm-hadassah-book-club-apri
 l\n\nApril's book is Stay with Me by Ayobami Adebayo.\n\nFrom www.goodread
 s.com:\n\nYejide and Akin have been married since they met and fell in lov
 e at university. Though many expected Akin to take several wives\, he and 
 Yejide have always agreed: polygamy is not for them. But four years into t
 heir marriage--after consulting fertility doctors and healers\, trying str
 ange teas and unlikely cures--Yejide is still not pregnant. She assumes sh
 e still has time--until her family arrives on her doorstep w...
DTSTART;TZID=America/New_York:20180417T193000
DTEND;TZID=America/New_York:20180417T213000
END:VEVENT
END:VCALENDAR
