BEGIN:VCALENDAR
PRODID:-//eluceo/ical//2.0/EN
VERSION:2.0
CALSCALE:GREGORIAN
BEGIN:VEVENT
UID:f545f2d801f576254ada959f9eb49a00
DTSTAMP:20260423T110041Z
SUMMARY:7:30pm Hadassah Book Group December 2017
DESCRIPTION:The Knoxville Jewish Alliance\nThe Knoxville Jewish Alliance Ca
 lendar\nhttps://jewishknoxville.org/calendar/730pm-hadassah-book-club-dece
 mber-2017\n\nBefore We Were Yours by Lisa Wingate\n\nFrom Goodreads.com:\n
 \nTwo families\, generations apart\, are forever changed by a heartbreakin
 g injustice in this poignant novel\, inspired by a true story\, for reader
 s of Orphan Train and The Nightingale.\n\nMemphis\, 1939. Twelve-year-old 
 Rill Foss and her four younger siblings live a magical life aboard their f
 amily’s Mississippi River shantyboat. But when their father must rush th
 eir mother to the hospital one stormy night\, Rill is left in charge—u..
 .
DTSTART;TZID=America/New_York:20171219T193000
DTEND;TZID=America/New_York:20171219T213000
END:VEVENT
END:VCALENDAR
