BEGIN:VCALENDAR
PRODID:-//eluceo/ical//2.0/EN
VERSION:2.0
CALSCALE:GREGORIAN
BEGIN:VEVENT
UID:9455c6eb10db7e8754812fd36cf50230
DTSTAMP:20260424T153015Z
SUMMARY:7a - Morning Minyan - HA
DESCRIPTION:The Knoxville Jewish Alliance\nThe Knoxville Jewish Alliance Ca
 lendar\nhttps://jewishknoxville.org/calendar/7a---morning-minyan---ha-1516
 305989\n\nPlease join us for our Thursday morning minyan.  All are welcom
 e regardless of affiliation.
DTSTART;TZID=America/New_York:20180125T070000
DTEND;TZID=America/New_York:20180125T074500
END:VEVENT
END:VCALENDAR
