BEGIN:VCALENDAR
PRODID:-//eluceo/ical//2.0/EN
VERSION:2.0
CALSCALE:GREGORIAN
BEGIN:VEVENT
UID:b2f129aa5878b55e45a7814cf319eeee
DTSTAMP:20260423T120038Z
SUMMARY:7a In-Person Minyan-HA
DESCRIPTION:The Knoxville Jewish Alliance\nThe Knoxville Jewish Alliance Ca
 lendar\nhttps://jewishknoxville.org/calendar/7a-in-person-minyan-ha\n\nIn-
 person Minyan. To protect those who cannot be vaccinated in our Congregati
 on\, masks will be worn at all times inside the shul.  Please bring your 
 own kippah and tallit.
DTSTART;TZID=America/New_York:20210916T070000
DTEND;TZID=America/New_York:20210916T074500
END:VEVENT
END:VCALENDAR
