BEGIN:VCALENDAR
PRODID:-//eluceo/ical//2.0/EN
VERSION:2.0
CALSCALE:GREGORIAN
BEGIN:VEVENT
UID:4da1e899c5f7ff7ce47322d6f0a47212
DTSTAMP:20260422T210426Z
SUMMARY:7a Morning Minyan - HA
DESCRIPTION:The Knoxville Jewish Alliance\nThe Knoxville Jewish Alliance Ca
 lendar\nhttps://jewishknoxville.org/calendar/7a-morning-minyan-ha1-282321\
 n\nJoin us for a warm and personal minyan service. On Mondays with are Fed
 eral holidays\, the service begins at 9:00 am. Please call the office for 
 details 865-522-0701.
DTSTART;TZID=America/New_York:20180924T070000
DTEND;TZID=America/New_York:20180924T080000
END:VEVENT
END:VCALENDAR
