BEGIN:VCALENDAR
PRODID:-//eluceo/ical//2.0/EN
VERSION:2.0
CALSCALE:GREGORIAN
BEGIN:VEVENT
UID:c242fa006015c9610865cc01bab08a99
DTSTAMP:20260419T220006Z
SUMMARY:9a Morning Minyan - HA
DESCRIPTION:The Knoxville Jewish Alliance\nThe Knoxville Jewish Alliance Ca
 lendar\nhttps://jewishknoxville.org/calendar/7a-morning-minyan-ha10-336357
 \n\nPlease Join us for Morning Minyan.
DTSTART;TZID=America/New_York:20200120T070000
DTEND;TZID=America/New_York:20200120T074500
END:VEVENT
END:VCALENDAR
