BEGIN:VCALENDAR
PRODID:-//eluceo/ical//2.0/EN
VERSION:2.0
CALSCALE:GREGORIAN
BEGIN:VEVENT
UID:5a61178f8d085877ccc21dd651de4c8a
DTSTAMP:20260424T055228Z
SUMMARY:7p Board of Trustees Meeting-HA
DESCRIPTION:The Knoxville Jewish Alliance\nThe Knoxville Jewish Alliance Ca
 lendar\nhttps://jewishknoxville.org/calendar/7p-board-of-trustees-meeting-
 ha-257886\n\nBoard of Trustees of Congregation Heska Amuna
DTSTART;TZID=America/New_York:20180111T190000
DTEND;TZID=America/New_York:20180111T210000
END:VEVENT
END:VCALENDAR
