BEGIN:VCALENDAR
PRODID:-//eluceo/ical//2.0/EN
VERSION:2.0
CALSCALE:GREGORIAN
BEGIN:VEVENT
UID:f94c46b7c0d26369e0e32fd24ba1fbc6
DTSTAMP:20260422T115640Z
SUMMARY:7p Board of Trustees Meeting - HA
DESCRIPTION:The Knoxville Jewish Alliance\nThe Knoxville Jewish Alliance Ca
 lendar\nhttps://jewishknoxville.org/calendar/7p-board-of-trustees-meeting-
 ha14\n\nBoard Meeting
DTSTART;TZID=America/New_York:20200304T190000
DTEND;TZID=America/New_York:20200304T203000
END:VEVENT
END:VCALENDAR
