BEGIN:VCALENDAR
PRODID:-//eluceo/ical//2.0/EN
VERSION:2.0
CALSCALE:GREGORIAN
BEGIN:VEVENT
UID:5cde7fdc37389518e6154354c95f1c17
DTSTAMP:20260425T134518Z
SUMMARY:7p Board of Trustees Meeting-HA
DESCRIPTION:The Knoxville Jewish Alliance\nThe Knoxville Jewish Alliance Ca
 lendar\nhttps://jewishknoxville.org/calendar/7p-board-of-trustees-meeting-
 ha2-281308\n\nBoard Meeting
DTSTART;TZID=America/New_York:20180809T190000
DTEND;TZID=America/New_York:20180809T210000
END:VEVENT
END:VCALENDAR
