BEGIN:VCALENDAR
PRODID:-//eluceo/ical//2.0/EN
VERSION:2.0
CALSCALE:GREGORIAN
BEGIN:VEVENT
UID:256f3d7abe19ac80931b55621ca3ec39
DTSTAMP:20260423T082532Z
SUMMARY:7p Hadassah Board Mtg-Orwitz Room
DESCRIPTION:The Knoxville Jewish Alliance\nThe Knoxville Jewish Alliance Ca
 lendar\nhttps://jewishknoxville.org/calendar/7p-hadassah-board-mtg-orwitz-
 room\n\n7p Hadassah Board Meeting
DTSTART;TZID=America/New_York:20160628T190000
DTEND;TZID=America/New_York:20160628T203000
END:VEVENT
END:VCALENDAR
