BEGIN:VCALENDAR
PRODID:-//eluceo/ical//2.0/EN
VERSION:2.0
CALSCALE:GREGORIAN
BEGIN:VEVENT
UID:17b964aeb25fd5d365e4ba8ccfa36da0
DTSTAMP:20260423T194118Z
SUMMARY:7p Jewish Film Series-High Anxiety-JCOR
DESCRIPTION:The Knoxville Jewish Alliance\nThe Knoxville Jewish Alliance Ca
 lendar\nhttps://jewishknoxville.org/calendar/7p-jewish-film-series-high-an
 xiety-jcor\n\nJune 18\, 2016\n\nJewish Film Series - The Mel Brooks Summer
  Festival: High Anxiety\n\nUSA. 1977\, 94 minutes\, PG\n\nMel Brooks' paro
 dy of Alfred Hitchcock films.\n\nDirector: Mel Brooks\n\nStars: Mel Brooks
 \, Madeline Kahn\, Cloris Leachman 
DTSTART;TZID=America/New_York:20160618T190000
DTEND;TZID=America/New_York:20160618T210000
END:VEVENT
END:VCALENDAR
