BEGIN:VCALENDAR
PRODID:-//eluceo/ical//2.0/EN
VERSION:2.0
CALSCALE:GREGORIAN
BEGIN:VEVENT
UID:89c8c0ebe164f012b51fa31269011260
DTSTAMP:20260422T223316Z
SUMMARY:7p Jewish Film Series: The Boy in the Striped Pajamas-JCOR
DESCRIPTION:The Knoxville Jewish Alliance\nThe Knoxville Jewish Alliance Ca
 lendar\nhttps://jewishknoxville.org/calendar/7p-jewish-film-series-the-boy
 -in-the-striped-pajamas-jcor\n\nMay 7\, 2016\, 7 p.m.\n\nJewish Film Serie
 s: The Boy in the Striped Pajamas\n\nUSA. 2008\, 93 minutes\, PG-13\n\nWhe
 n his family moves to Poland\, young Bruno befriends Shmuel\, a boy who li
 ves on the other side of the fence\, where everyone seems to be wearing st
 riped pajamas. Unaware of Shmuel's fate as a Jewish prisoner\, Bruno embar
 ks on a dangerous journey.
DTSTART;TZID=America/New_York:20160507T190000
DTEND;TZID=America/New_York:20160507T210000
END:VEVENT
END:VCALENDAR
