BEGIN:VCALENDAR
PRODID:-//eluceo/ical//2.0/EN
VERSION:2.0
CALSCALE:GREGORIAN
BEGIN:VEVENT
UID:02925ba754367d8e92b3dcb935f14b0c
DTSTAMP:20260423T070102Z
SUMMARY:7p Semi-Annual Meeting-TBE
DESCRIPTION:The Knoxville Jewish Alliance\nThe Knoxville Jewish Alliance Ca
 lendar\nhttps://jewishknoxville.org/calendar/7p-semi-annual-meeting-206774
 \n\nSemi-Annual Meeting
DTSTART;TZID=America/New_York:20161117T190000
DTEND;TZID=America/New_York:20161117T200000
END:VEVENT
END:VCALENDAR
