BEGIN:VCALENDAR
PRODID:-//eluceo/ical//2.0/EN
VERSION:2.0
CALSCALE:GREGORIAN
BEGIN:VEVENT
UID:4e5eb95b26a8ff22367bbcb55fb9e4bb
DTSTAMP:20260419T123140Z
SUMMARY:7p Sunset Minyan-HA
DESCRIPTION:The Knoxville Jewish Alliance\nThe Knoxville Jewish Alliance Ca
 lendar\nhttps://jewishknoxville.org/calendar/7p-sunset-minyan-202007\n\nSt
 art your Sabbath with a traditional service with friends! Stay for an on
 eg Sabbath.
DTSTART;TZID=America/New_York:20160909T190000
DTEND;TZID=America/New_York:20160909T200000
END:VEVENT
END:VCALENDAR
