BEGIN:VCALENDAR
PRODID:-//eluceo/ical//2.0/EN
VERSION:2.0
CALSCALE:GREGORIAN
BEGIN:VEVENT
UID:6396718520009ae5b44755cc2da21f6c
DTSTAMP:20260425T134457Z
SUMMARY:7pm - 9pm CTeen Cut Throat Kitchen Chanukah  - Chabad
DESCRIPTION:The Knoxville Jewish Alliance\nThe Knoxville Jewish Alliance Ca
 lendar\nhttps://jewishknoxville.org/calendar/7pm-9pm-cteen-cut-throat-kitc
 hen-chanukah\n\nCteen is Jewish Programming for all Jewish Middle and High
  School students. Cteen events give our teens the opportunity to socialize
 \, stay in touch with upcoming Jewish holidays and do a mitzvah project fo
 r our community.
DTSTART;TZID=America/New_York:20171216T190000
DTEND;TZID=America/New_York:20171216T210000
END:VEVENT
END:VCALENDAR
