BEGIN:VCALENDAR
PRODID:-//eluceo/ical//2.0/EN
VERSION:2.0
CALSCALE:GREGORIAN
BEGIN:VEVENT
UID:8c9a83362d197a3a39956752de1ea1e3
DTSTAMP:20260420T035531Z
SUMMARY:7pm Shabbat Service-TBE
DESCRIPTION:The Knoxville Jewish Alliance\nThe Knoxville Jewish Alliance Ca
 lendar\nhttps://jewishknoxville.org/calendar/7pm-shabbat-service-tbe-2018-
 2019-266712\n\nShabbat Service
DTSTART;TZID=America/New_York:20180706T190000
DTEND;TZID=America/New_York:20180706T210000
END:VEVENT
END:VCALENDAR
