BEGIN:VCALENDAR
PRODID:-//eluceo/ical//2.0/EN
VERSION:2.0
CALSCALE:GREGORIAN
BEGIN:VEVENT
UID:f355cad713ff9ecd6d604124fcd3f639
DTSTAMP:20260423T041143Z
SUMMARY:6pm Shabbat Service-TBE
DESCRIPTION:The Knoxville Jewish Alliance\nThe Knoxville Jewish Alliance Ca
 lendar\nhttps://jewishknoxville.org/calendar/7pm-shabbat-service-tbe-2018-
 2019-288430\n\nShabbat Service
DTSTART;TZID=America/New_York:20181123T180000
DTEND;TZID=America/New_York:20181123T193000
END:VEVENT
END:VCALENDAR
