BEGIN:VCALENDAR
PRODID:-//eluceo/ical//2.0/EN
VERSION:2.0
CALSCALE:GREGORIAN
BEGIN:VEVENT
UID:9d3cdb8483c51938a9710f9dab4f1863
DTSTAMP:20260425T020215Z
SUMMARY:6pm-Shabbat Service-TBE
DESCRIPTION:The Knoxville Jewish Alliance\nThe Knoxville Jewish Alliance Ca
 lendar\nhttps://jewishknoxville.org/calendar/7pm-shabbat-service-tbe-2020-
 2021-355568\n\n6pm Shabbat Service
DTSTART;TZID=America/New_York:20200828T180000
DTEND;TZID=America/New_York:20200828T193000
END:VEVENT
END:VCALENDAR
