BEGIN:VCALENDAR
PRODID:-//eluceo/ical//2.0/EN
VERSION:2.0
CALSCALE:GREGORIAN
BEGIN:VEVENT
UID:d92d6382ce4505e2d72e8188d199e4d6
DTSTAMP:20260425T032808Z
SUMMARY:7pm-Simchat Torah/Shabbat Service-TBE
DESCRIPTION:The Knoxville Jewish Alliance\nThe Knoxville Jewish Alliance Ca
 lendar\nhttps://jewishknoxville.org/calendar/7pm-shabbat-service-tbe-2020-
 2021-355573\n\n7pm Simchat Torah/Shabbat Service
DTSTART;TZID=America/New_York:20201009T190000
DTEND;TZID=America/New_York:20201009T203000
END:VEVENT
END:VCALENDAR
