BEGIN:VCALENDAR
PRODID:-//eluceo/ical//2.0/EN
VERSION:2.0
CALSCALE:GREGORIAN
BEGIN:VEVENT
UID:aaaf20fc35106d51e7431886f9c5b824
DTSTAMP:20260423T122336Z
SUMMARY:7pm-Sisterhood Shabbat Service-TBE
DESCRIPTION:The Knoxville Jewish Alliance\nThe Knoxville Jewish Alliance Ca
 lendar\nhttps://jewishknoxville.org/calendar/7pm-shabbat-service-tbe-2020-
 2021-355591\n\n7pm Sisterhood Shabbat Service
DTSTART;TZID=America/New_York:20210312T190000
DTEND;TZID=America/New_York:20210312T203000
END:VEVENT
END:VCALENDAR
