BEGIN:VCALENDAR
PRODID:-//eluceo/ical//2.0/EN
VERSION:2.0
CALSCALE:GREGORIAN
BEGIN:VEVENT
UID:c8f8d80f7af486fc10b7856a958f4c09
DTSTAMP:20260421T150334Z
SUMMARY:7pm-Confirmation Shabbat Service-TBE
DESCRIPTION:The Knoxville Jewish Alliance\nThe Knoxville Jewish Alliance Ca
 lendar\nhttps://jewishknoxville.org/calendar/7pm-shabbat-service-tbe-2020-
 2021-355602\n\n7pm Confirmation Shabbat Service
DTSTART;TZID=America/New_York:20210521T190000
DTEND;TZID=America/New_York:20210521T203000
END:VEVENT
END:VCALENDAR
