BEGIN:VCALENDAR
PRODID:-//eluceo/ical//2.0/EN
VERSION:2.0
CALSCALE:GREGORIAN
BEGIN:VEVENT
UID:5eb89b49d249750cd6713a4da13efc8d
DTSTAMP:20260422T233854Z
SUMMARY:7pm-Shabbat Service w/Dan Nichols-TBE
DESCRIPTION:The Knoxville Jewish Alliance\nThe Knoxville Jewish Alliance Ca
 lendar\nhttps://jewishknoxville.org/calendar/7pm-shabbat-service-tbe-2020-
 2021-378251\n\n7pm Shabbat Service w/Dan Nichols
DTSTART;TZID=America/New_York:20210416T190000
DTEND;TZID=America/New_York:20210416T203000
END:VEVENT
END:VCALENDAR
