BEGIN:VCALENDAR
PRODID:-//eluceo/ical//2.0/EN
VERSION:2.0
CALSCALE:GREGORIAN
BEGIN:VEVENT
UID:da8c905fb96e4b2a4ac6e42fbcca3bcb
DTSTAMP:20260424T165231Z
SUMMARY:7pm Sisterhood Havdallah & Chanukah Mystery - TBE
DESCRIPTION:The Knoxville Jewish Alliance\nThe Knoxville Jewish Alliance Ca
 lendar\nhttps://jewishknoxville.org/calendar/7pm-sisterhood-havdallah-chan
 ukah-mystery-tbe-288434\n\nSisterhood Havdallah & Chanuka Mystery
DTSTART;TZID=America/New_York:20181110T190000
DTEND;TZID=America/New_York:20181110T210000
END:VEVENT
END:VCALENDAR
