BEGIN:VCALENDAR
PRODID:-//eluceo/ical//2.0/EN
VERSION:2.0
CALSCALE:GREGORIAN
BEGIN:VEVENT
UID:e3c3ab03079ebd4fb8656b5d4fa2a03b
DTSTAMP:20260426T005505Z
SUMMARY:7pm-Sisterhood program w/Knoxville Opera -TBE
DESCRIPTION:The Knoxville Jewish Alliance\nThe Knoxville Jewish Alliance Ca
 lendar\nhttps://jewishknoxville.org/calendar/7pm-sisterhood-program-wknoxv
 ille-opera-tbe-385433\n\nBrian Salesky\, with the Knoxville Opera\, will h
 ost a free Live variety opera program open to all.  The program will be i
 n the TBE Sanctuary for about an hour and no refreshments will be offered.
   Mark your calendars for this delightful way to start back to Temple for
  Wednesday\, August 18 at 7 pm. 
DTSTART;TZID=America/New_York:20210818T190000
DTEND;TZID=America/New_York:20210818T200000
END:VEVENT
END:VCALENDAR
