BEGIN:VCALENDAR
PRODID:-//eluceo/ical//2.0/EN
VERSION:2.0
CALSCALE:GREGORIAN
BEGIN:VEVENT
UID:97fa59167455aa077885861e20b32da7
DTSTAMP:20260426T021621Z
SUMMARY:8:00 a.m. - 3:00 p.m. - PS Teacher In-Service - AJCC Orwitz Room
DESCRIPTION:The Knoxville Jewish Alliance\nThe Knoxville Jewish Alliance Ca
 lendar\nhttps://jewishknoxville.org/calendar/800-am-300-pm--ps-teacher-in-
 service---ajcc-orwitz-room-269095\n\nPS Teacher In Service
DTSTART;TZID=America/New_York:20180730T080000
DTEND;TZID=America/New_York:20180730T150000
END:VEVENT
END:VCALENDAR
