BEGIN:VCALENDAR
PRODID:-//eluceo/ical//2.0/EN
VERSION:2.0
CALSCALE:GREGORIAN
BEGIN:VEVENT
UID:8b823670ec0cf764a57e53234f332fde
DTSTAMP:20260424T153420Z
SUMMARY:8:00 a.m. - 4:00 p.m. - PS Summer Camp Orientation - AJCC Orwitz Ro
 om
DESCRIPTION:The Knoxville Jewish Alliance\nThe Knoxville Jewish Alliance Ca
 lendar\nhttps://jewishknoxville.org/calendar/800-am-400-pm--ps-summer-camp
 -orientation---ajcc-orwitz-room-269069\n\nAJCC Preschool\n\nCamp Orientati
 on
DTSTART;TZID=America/New_York:20180524T080000
DTEND;TZID=America/New_York:20180524T160000
END:VEVENT
END:VCALENDAR
