BEGIN:VCALENDAR
PRODID:-//eluceo/ical//2.0/EN
VERSION:2.0
CALSCALE:GREGORIAN
BEGIN:VEVENT
UID:0743e2809534f4e59512ab9f33d32923
DTSTAMP:20260425T111410Z
SUMMARY:8:00 p.m. - Dor L/Dor Chanukah Concert - Laurel Theater
DESCRIPTION:The Knoxville Jewish Alliance\nThe Knoxville Jewish Alliance Ca
 lendar\nhttps://jewishknoxville.org/calendar/800-pm-dor-ldor-chanukah-conc
 ert--laurel-theater-206803\n\nDor L'Dor Chanukah Concert\n\nContact:  Ken
  Brown\n\nkenbrown7@yahoo.com
DTSTART;TZID=America/New_York:20161210T200000
DTEND;TZID=America/New_York:20161210T220000
END:VEVENT
END:VCALENDAR
