BEGIN:VCALENDAR
PRODID:-//eluceo/ical//2.0/EN
VERSION:2.0
CALSCALE:GREGORIAN
BEGIN:VEVENT
UID:825f40956e02095143cbc57b98bc75e0
DTSTAMP:20260425T111420Z
SUMMARY:8:00 p.m. - Tennessee Schmaltz in Concert - Laurel Theater
DESCRIPTION:The Knoxville Jewish Alliance\nThe Knoxville Jewish Alliance Ca
 lendar\nhttps://jewishknoxville.org/calendar/800-pm-klezmer-more-in-concer
 t---laurel-theater-249731\n\nKlezmer & More in Concert
DTSTART;TZID=America/New_York:20171209T200000
DTEND;TZID=America/New_York:20171209T220000
END:VEVENT
END:VCALENDAR
