BEGIN:VCALENDAR
PRODID:-//eluceo/ical//2.0/EN
VERSION:2.0
CALSCALE:GREGORIAN
BEGIN:VEVENT
UID:6eb01c4b8c91fa7f0bba9aecf052411e
DTSTAMP:20260421T234254Z
SUMMARY:Office Closed-TBE
DESCRIPTION:The Knoxville Jewish Alliance\nThe Knoxville Jewish Alliance Ca
 lendar\nhttps://jewishknoxville.org/calendar/800am-office-closed-tb1-16459
 2\n\nOffice Closed
DTSTART;TZID=America/New_York:20160530T080000
DTEND;TZID=America/New_York:20160530T170000
END:VEVENT
END:VCALENDAR
