BEGIN:VCALENDAR
PRODID:-//eluceo/ical//2.0/EN
VERSION:2.0
CALSCALE:GREGORIAN
BEGIN:VEVENT
UID:658ee1fdbd559f90d6c497af0d4f6aa1
DTSTAMP:20260423T093744Z
SUMMARY:8:10am-12pm First Day of School-KJDS
DESCRIPTION:The Knoxville Jewish Alliance\nThe Knoxville Jewish Alliance Ca
 lendar\nhttps://jewishknoxville.org/calendar/810am-12pm-first-day-of-schoo
 l-kjds\n\nFirst Day Of School!! Noon dismissal 
DTSTART;TZID=America/New_York:20190807T081000
DTEND;TZID=America/New_York:20190807T120000
END:VEVENT
END:VCALENDAR
