BEGIN:VCALENDAR
PRODID:-//eluceo/ical//2.0/EN
VERSION:2.0
CALSCALE:GREGORIAN
BEGIN:VEVENT
UID:750d8ebfa25dffb012ccfbc43aa5cec3
DTSTAMP:20260425T111510Z
SUMMARY:8:30 a.m. - 1:00 p.m. - AJCC Preschool Teacher In-Service - AJCC Or
 witz Rm
DESCRIPTION:The Knoxville Jewish Alliance\nThe Knoxville Jewish Alliance Ca
 lendar\nhttps://jewishknoxville.org/calendar/830-am-100-pm--ajcc-preschool
 -teacher-in-service---ajcc-orwitz-rm-222558\n\nAJCC Preschool Teacher In-S
 ervice
DTSTART;TZID=America/New_York:20170220T083000
DTEND;TZID=America/New_York:20170220T130000
END:VEVENT
END:VCALENDAR
