BEGIN:VCALENDAR
PRODID:-//eluceo/ical//2.0/EN
VERSION:2.0
CALSCALE:GREGORIAN
BEGIN:VEVENT
UID:e493e78efb0965d45d6a93e976572940
DTSTAMP:20260423T110022Z
SUMMARY:8:30 am-3:30 pm Can-struction Build Day-KJDS
DESCRIPTION:The Knoxville Jewish Alliance\nThe Knoxville Jewish Alliance Ca
 lendar\nhttps://jewishknoxville.org/calendar/830-am-330-pm-can-struction-b
 uild-day-kjds\n\nOur annual Can-struction will be built this year at the 
 Knoxville Convention Center and on view during Fantasy of Trees 
DTSTART;TZID=America/New_York:20171120T083000
DTEND;TZID=America/New_York:20171120T153000
END:VEVENT
END:VCALENDAR
