BEGIN:VCALENDAR
PRODID:-//eluceo/ical//2.0/EN
VERSION:2.0
CALSCALE:GREGORIAN
BEGIN:VEVENT
UID:f598abd11b051932829f7ab10d277a2c
DTSTAMP:20260424T080923Z
SUMMARY:8:30 am -Noon Field Day\, Last Day of School- KJDS
DESCRIPTION:The Knoxville Jewish Alliance\nThe Knoxville Jewish Alliance Ca
 lendar\nhttps://jewishknoxville.org/calendar/830-am-noon-field-day-last-da
 y-of-school--kjds\n\nField day fun on the last day of school - noon dismis
 sal 
DTSTART;TZID=America/New_York:20180525T083000
DTEND;TZID=America/New_York:20180525T120000
END:VEVENT
END:VCALENDAR
