BEGIN:VCALENDAR
PRODID:-//eluceo/ical//2.0/EN
VERSION:2.0
CALSCALE:GREGORIAN
BEGIN:VEVENT
UID:14de6ec44a66c6b498c22c5d6dbd3c3e
DTSTAMP:20260422T083126Z
SUMMARY:8:30P-Advanced Prayer Book Hebrew-HAS
DESCRIPTION:The Knoxville Jewish Alliance\nThe Knoxville Jewish Alliance Ca
 lendar\nhttps://jewishknoxville.org/calendar/830p-advanced-prayer-book-heb
 rew-has\n\nContact Peggy Littmann for more information.
DTSTART;TZID=America/New_York:20250903T203000
DTEND;TZID=America/New_York:20250903T213000
END:VEVENT
END:VCALENDAR
