BEGIN:VCALENDAR
PRODID:-//eluceo/ical//2.0/EN
VERSION:2.0
CALSCALE:GREGORIAN
BEGIN:VEVENT
UID:688055ce7f07f52672279dd86dcd6a07
DTSTAMP:20260421T150418Z
SUMMARY:8a TBE 2nd Annual Golf Tournament - TBE
DESCRIPTION:The Knoxville Jewish Alliance\nThe Knoxville Jewish Alliance Ca
 lendar\nhttps://jewishknoxville.org/calendar/8a-tbe-2nd-annual-golf-tourna
 ment-tbe\n\n8:00am TBE 2nd Annual Golf Tournament - TBE
DTSTART;TZID=America/New_York:20250519T080000
DTEND;TZID=America/New_York:20250519T153000
END:VEVENT
END:VCALENDAR
