BEGIN:VCALENDAR
PRODID:-//eluceo/ical//2.0/EN
VERSION:2.0
CALSCALE:GREGORIAN
BEGIN:VEVENT
UID:93ed3825a87aeb01f530fe95d62c99d3
DTSTAMP:20260423T235001Z
SUMMARY:8:15p Selichot Service @ Heska Amuna-TBE
DESCRIPTION:The Knoxville Jewish Alliance\nThe Knoxville Jewish Alliance Ca
 lendar\nhttps://jewishknoxville.org/calendar/8p-selichot-service-tbe-2025\
 n\n8:15p selichot service @ Heska Amuna
DTSTART;TZID=America/New_York:20250913T201500
DTEND;TZID=America/New_York:20250913T213000
END:VEVENT
END:VCALENDAR
