BEGIN:VCALENDAR
PRODID:-//eluceo/ical//2.0/EN
VERSION:2.0
CALSCALE:GREGORIAN
BEGIN:VEVENT
UID:f1c53703ececf7414f33de0ec59f69df
DTSTAMP:20260425T235044Z
SUMMARY:8pm Minyan-HAS
DESCRIPTION:The Knoxville Jewish Alliance\nThe Knoxville Jewish Alliance Ca
 lendar\nhttps://jewishknoxville.org/calendar/8pm-minyan-has321\n\nJoin Mic
 haelBurnett on Zoom for 8 pm Minyan.
DTSTART;TZID=America/New_York:20260106T200000
DTEND;TZID=America/New_York:20260106T210000
END:VEVENT
END:VCALENDAR
