BEGIN:VCALENDAR
PRODID:-//eluceo/ical//2.0/EN
VERSION:2.0
CALSCALE:GREGORIAN
BEGIN:VEVENT
UID:41d5575391bc85a4887987cfc9aabcea
DTSTAMP:20260425T111540Z
SUMMARY:9:00 - 10:30 a.m. - Swim Team Morning Practices (Ages 11-Up at AJCC
  Pool)
DESCRIPTION:The Knoxville Jewish Alliance\nThe Knoxville Jewish Alliance Ca
 lendar\nhttps://jewishknoxville.org/calendar/900-1030-am--swim-team-mornin
 g-practices-ages-11-up-at-ajcc-pool-311758\n\nSwim team’s schedule is no
 ted below:\n\nMorning Practices (Monday through Friday)\n\n8:00 - 9:00 a.m
 . (Ages 10-Under at AJCC Pool)\n\n9:00 - 10:30 a.m. (Ages 11-Up at AJCC Po
 ol)\n\nEvening Practices (Monday through Thursday)\n\n6:00 - 7:00 p.m. (Ag
 es 10-Under at AJCC Pool)\n\n7:00 - 8:00 p.m. (Ages 11-Up at AJCC Pool)\n\
 nPlease be aware the Pool closes at 4PM on dates the meets occur at the AJ
 CC.\n\n\n\n\n\nDate/Time\n\n\nWarm Up Begins\n\n\nOpponent\n\n\n...
DTSTART;TZID=America/New_York:20190528T090000
DTEND;TZID=America/New_York:20190528T103000
END:VEVENT
END:VCALENDAR
