BEGIN:VCALENDAR
PRODID:-//eluceo/ical//2.0/EN
VERSION:2.0
CALSCALE:GREGORIAN
BEGIN:VEVENT
UID:52f8e173b23d28f3e3660efe432b23b5
DTSTAMP:20260422T090241Z
SUMMARY:9:00 a.m. - 4:00 p.m. - AJCC Preschool Teacher Work Week - AJCC Orw
 itz Room
DESCRIPTION:The Knoxville Jewish Alliance\nThe Knoxville Jewish Alliance Ca
 lendar\nhttps://jewishknoxville.org/calendar/900-am-400-pm--ajcc-preschool
 -teacher-work-week---ajcc-orwitz-room-199802\n\nAJCC Preschool Teacher Wor
 k Week
DTSTART;TZID=America/New_York:20160801T090000
DTEND;TZID=America/New_York:20160801T160000
END:VEVENT
END:VCALENDAR
