BEGIN:VCALENDAR
PRODID:-//eluceo/ical//2.0/EN
VERSION:2.0
CALSCALE:GREGORIAN
BEGIN:VEVENT
UID:18bc5c819c1cef893294f8e569b456a1
DTSTAMP:20260424T094458Z
SUMMARY:9:15a-Text Study-HAS
DESCRIPTION:The Knoxville Jewish Alliance\nThe Knoxville Jewish Alliance Ca
 lendar\nhttps://jewishknoxville.org/calendar/915a-text-study-has123\n\nJoi
 n Will Thompson in the library every Saturday morning for a delightful tex
 t study.\n\nIn Person only.
DTSTART;TZID=America/New_York:20260103T091500
DTEND;TZID=America/New_York:20260103T094500
END:VEVENT
END:VCALENDAR
