BEGIN:VCALENDAR
PRODID:-//eluceo/ical//2.0/EN
VERSION:2.0
CALSCALE:GREGORIAN
BEGIN:VEVENT
UID:f91cd0d032024b7d2c61d18daadbd2e7
DTSTAMP:20260423T152816Z
SUMMARY:9:30-Noon HARS Last Class Celebration-HA
DESCRIPTION:The Knoxville Jewish Alliance\nThe Knoxville Jewish Alliance Ca
 lendar\nhttps://jewishknoxville.org/calendar/930--12-pm-religious-school--
 last-class-celebration-ha-1437489527\n\nLast Class
DTSTART;TZID=America/New_York:20160501T093000
DTEND;TZID=America/New_York:20160501T120000
END:VEVENT
END:VCALENDAR
