BEGIN:VCALENDAR
PRODID:-//eluceo/ical//2.0/EN
VERSION:2.0
CALSCALE:GREGORIAN
BEGIN:VEVENT
UID:085e2ee9405d3f15db5d1936514b085b
DTSTAMP:20260426T021631Z
SUMMARY:9:30 - 10:30 a.m. - Ta B'shvat Brachot Party - AJCC Caller Auditori
 um
DESCRIPTION:The Knoxville Jewish Alliance\nThe Knoxville Jewish Alliance Ca
 lendar\nhttps://jewishknoxville.org/calendar/930-1030-am--ta-bshvat-bracho
 t-party---ajcc-caller-auditorium-219043\n\n
DTSTART;TZID=America/New_York:20170210T093000
DTEND;TZID=America/New_York:20170210T103000
END:VEVENT
END:VCALENDAR
