BEGIN:VCALENDAR
PRODID:-//eluceo/ical//2.0/EN
VERSION:2.0
CALSCALE:GREGORIAN
BEGIN:VEVENT
UID:fad2682ff67c1185df44abf5e8cc4506
DTSTAMP:20260424T203833Z
SUMMARY:9:30 - 10:30am- AJCC Preschool- Rosh Hashanah Celebration-Caller Au
 ditorium
DESCRIPTION:The Knoxville Jewish Alliance\nThe Knoxville Jewish Alliance Ca
 lendar\nhttps://jewishknoxville.org/calendar/930-1030am-ajcc-preschool--ro
 sh-hashanah-celebration-caller-auditorium-326028\n\nRosh Hashanah Family 
 Celebration\n\nFriday\, September 27\, 9:30  - 10:30 a.m.\n\nAJCC Caller
  Auditorium\n\nAll are welcome\n\n\n\n 
DTSTART;TZID=America/New_York:20190927T093000
DTEND;TZID=America/New_York:20190927T103000
END:VEVENT
END:VCALENDAR
