BEGIN:VCALENDAR
PRODID:-//eluceo/ical//2.0/EN
VERSION:2.0
CALSCALE:GREGORIAN
BEGIN:VEVENT
UID:d5154804c716761b46817c7555ca4157
DTSTAMP:20260425T123351Z
SUMMARY:9:30 - 11:00 a.m. - AJCC Preschool End of Year Shabbat Picnic - AJC
 C Lawn
DESCRIPTION:The Knoxville Jewish Alliance\nThe Knoxville Jewish Alliance Ca
 lendar\nhttps://jewishknoxville.org/calendar/930-1100-am--ajcc-preschool-e
 nd-of-year-shabbat-picnic---ajcc-lawn-266972\n\nAJCC Preschool\n\nEnd of Y
 ear Shabbat Picnic
DTSTART;TZID=America/New_York:20180504T093000
DTEND;TZID=America/New_York:20180504T110000
END:VEVENT
END:VCALENDAR
